Workbook

Sheet Sheet1
A1: 序号 | B1: 学号 | C1: 姓名 | D1: 现党支部 | E1: 推荐方式 | F1: 政治面貌 | G1: 出生日期 | H1: 性别 | I1: 民族 | J1: 类别 | K1: 班级 | L1: 年级 | M1: 籍贯 | N1: 申请入党时间 | O1: 确立入党积极分子时间 | P1: 党校结业时间 | Q1: 截止2026年10月14日志愿者工时数 | R1: 上学期是否有挂科 | S1: 本科生学习情况（上学期成绩在班级或专业或年级排名），格式如“5/23，班级排名” | T1: 截止2026年10月14日大学/研究生期间竞赛获奖或者其他文体活动获奖、或者荣誉（院级及以上） （表中获奖荣誉为截止10月14日情况） | U1: 截止2026年10月14日大学期间发表论文、专利情况（此列只针对研究生） | V1: 截止2026年10月14日大学期间/研究生期间任职情况 （表中任职为截止10月9日情况） | W1: 是否有违纪（包括寝室违纪被通报），请实事求是填写 | X1: 是否有发展意愿 | Y1: 是否已符合党员发展基本条件（由党建老师填写） | Z1: 不符合原因
A2: 1 | B2: 221124120331 | C2: 韩云瑞 | D2: 研究生智能系统第二党支部 | E2: 团内推优 | F2: 共青团员 | G2: 20030103 | H2: 男 | I2: 汉族 | J2: 硕士研究生 | K2: 硕-软件工程2412班 | L2: 硕士生2024级 | M2: 江西景德镇 | N2: 20200903 | O2: 20210401 | P2: 20210424 | Q2: 253 | R2: 否 | S2: 191/223 | T2: 1.2024年双11焕新活动三等奖；2.2024学年硕士一等奖学金；3.2025学年院级优秀团员 | U2: 无 | V2: 无 | W2: 无 | X2: 是 | Y2: 是
A3: 2 | B3: 211124120091 | C3: 陈亮 | D3: 研究生网络第一党支部 | E3: 团内推优 | F3: 群众 | G3: 20010419 | H3: 男 | I3: 汉族 | J3: 硕士研究生 | K3: 硕-软件工程2404班 | L3: 硕士生2024级 | M3: 江苏泰州 | N3: 20230927 | O3: 20240330 | P3: 未结业 | R3: 否 | Y3: 否 | Z3: 政治面貌不符
A4: 3 | B4: 221124120351 | C4: 周凯宁 | D4: 研究生网络第一党支部 | E4: 团内推优 | F4: 共青团员 | G4: 20020826 | H4: 男 | I4: 汉族 | J4: 硕士研究生 | K4: 硕-软件工程2412班 | L4: 硕士生2024级 | M4: 浙江衢州 | N4: 20200930 | O4: 20210406 | P4: 20241218 | Q4: 29 | R4: 否 | T4: 一等奖学金、二等奖学金、研究生新生篮球赛第三名 | U4: 周凯宁、谢亮、赵邢、杨晓、郝圣禹、单剑辉、孙国道、梁荣华，一种基于生成对抗模仿学习的思维链推理训练方法；COLING2027在投 | W4: 否 | X4: 是 | Y4: 是
A5: 4 | B5: 221123120137 | C5: 李亦然 | D5: 博士生网络党支部 | E5: 团内推优 | F5: 共青团员 | G5: 20010619 | H5: 男 | I5: 汉族 | J5: 博士研究生 | K5: 博-计算机科学与技术2501班 | L5: 博士生2025级 | M5: 浙江台州 | N5: 20230917 | O5: 20240329 | P5: 20231107 | R5: 否 | X5: 无 | Y5: 否 | Z5: 其他均无
A6: 5 | B6: 121126120045 | C6: 林子阳 | D6: 博士生网络党支部 | E6: 团内推优 | F6: 共青团员 | G6: 20011102 | H6: 男 | I6: 汉族 | J6: 博士研究生 | K6: 博士-电信2601班 | L6: 博士生2026级 | M6: 安徽亳州 | N6: 20230917 | O6: 20240925 | P6: 20231107 | Q6: 19 | R6: 否 | T6: 无 | U6: IEEE Transactions on Wireless Communications论文一篇（CCFB,中科院一区top），专利2篇 | V6: 2024-2025 研究生艺术团宣传部部长 | W6: 无 | X6: 是 | Y6: 是
A7: 6 | B7: 221124120206 | C7: 林威廷 | D7: 研究生网络第三党支部 | E7: 团内推优 | F7: 共青团员 | G7: 20020331 | H7: 男 | I7: 汉族 | J7: 硕士研究生 | K7: 硕-计算机技术2408班 | L7: 硕士生2024级 | M7: 浙江台州 | N7: 20200929 | O7: 20221015 | P7: 20241218 | R7: 否 | Y7: 否 | Z7: 其他均无
A8: 7 | B8: 211124120048 | C8: 李婷婷 | D8: 研究生网络第二党支部 | E8: 团内推优 | F8: 共青团员 | G8: 20021121 | H8: 女 | I8: 汉族 | J8: 硕士研究生 | K8: 硕-计算机科学与技术2402班 | L8: 硕士生2024级 | M8: 河南驻马店 | N8: 20210417 | O8: 20211104 | P8: 20250508 | Q8: 43 | R8: 否 | S8: 30/30 | T8: 院级优秀团员 | U8: 无 | V8: 无 | W8: 无 | X8: 有 | Y8: 是
A9: 8 | B9: 211124120038 | C9: 魏董杭 | D9: 研究生网络第二党支部 | E9: 团内推优 | F9: 共青团员 | G9: 20010914 | H9: 男 | I9: 汉族 | J9: 硕士研究生 | K9: 硕-计算机科学与技术2402班 | L9: 硕士生2024级 | M9: 浙江湖州 | N9: 20200914 | O9: 20210418 | P9: 未结业 | R9: 否 | Y9: 否 | Z9: 党课未结业，其他均无
A10: 9 | B10: 221124120256 | C10: 鲁屹青 | D10: 研究生图形党支部 | E10: 团内推优 | F10: 共青团员 | G10: 20011227 | H10: 男 | I10: 汉族 | J10: 硕士研究生 | K10: 硕-计算机技术2409班 | L10: 硕士生2024级 | M10: 浙江杭州 | N10: 20200922 | O10: 20210507 | P10: 20241218 | R10: 否 | X10: 无发展意愿 | Y10: 否 | Z10: 其他均无
A11: 10 | B11: 221124120167 | C11: 徐文峰 | D11: 研究生软件第一党支部 | E11: 团内推优 | F11: 共青团员 | G11: 20021031 | H11: 男 | I11: 汉族 | J11: 硕士研究生 | K11: 硕-计算机技术2406班 | L11: 硕士生2024级 | M11: 浙江温州 | N11: 20210601 | O11: 20230324 | P11: 20241218 | Q11: 12 | R11: 否 | S11: 5/21，班级排名 | U11: CCF-C论文一篇 | V11: 寝室楼层长 | W11: 否 | X11: 是 | Y11: 是
A12: 11 | B12: 221124120283 | C12: 华聪 | D12: 研究生软件第二党支部 | E12: 团内推优 | F12: 共青团员 | G12: 20020720 | H12: 男 | I12: 汉族 | J12: 硕士研究生 | K12: 硕-计算机技术2410班 | L12: 硕士生2024级 | M12: 湖北黄冈 | N12: 20220926 | O12: 20230425 | P12: 20230526 | Q12: 9.5 | R12: 否 | S12: 174/223 | T12: 无 | U12: 无 | V12: 无 | W12: 无 | X12: 是 | Y12: 否 | Z12: 志愿者工时不足，无院级以上奖励
A13: 12 | B13: 221124120120 | C13: 刘塞 | D13: 研究生软件第二党支部 | E13: 团内推优 | F13: 共青团员 | G13: 20020228 | H13: 男 | I13: 汉族 | J13: 硕士研究生 | K13: 硕-计算机技术2405班 | L13: 硕士生2024级 | M13: 河北石家庄 | N13: 20201210 | O13: 20211004 | P13: 20241218 | Q13: 10.5 | R13: 否 | S13: 70/223 | T13: 院篮球新生杯三等奖 | U13: 基于潜在空间学习的伪造视频检测方法及系2025.09 授权 一种基于图卷积建模与指纹库匹配的图像伪造溯源方法2025.08 授权 一种注意力增强与自适应频率选择的伪造定位方法2026.08 授权 | V13: 无 | W13: 无 | X13: 是 | Y13: 是
A14: 13 | B14: 111122120003 | C14: 李明达 | D14: 博士生软件党支部 | E14: 团内推优 | F14: 共青团员 | G14: 19980506 | H14: 男 | I14: 汉族 | J14: 博士研究生 | K14: (博)计算机科学与技术2201 | L14: 博士生2022级 | M14: 浙江温州 | N14: 20221220 | O14: 20231026 | P14: 20240424 | Q14: 11 | R14: 否 | T14: 1. 互联网+国赛银奖：基于内核日志的智能安全运维平台银奖；2. 第十九届“挑战杯”科技创新揭榜挂帅二等奖；3.“华为杯”第三届中国研究生网络安全创新大赛二等奖 | U14: 1.HER-PT: An intelligent penetration testing framework with Hindsight Experience Replay, Computers & Security, Volume 152, 2025；2. TraceBack: Sequence-enhanced and causality-driven attack scenario reconstruction from provenance graphs, Knowledge-Based Systems, Volume 351, Part C, 2026 | V14: 无 | W14: 无 | X14: 是 | Y14: 是
A15: 14 | B15: 2112112257 | C15: 黄嘉诚 | D15: 博士生图像视觉党支部 | E15: 团内推优 | F15: 群众 | G15: 19980419 | H15: 男 | I15: 汉族 | J15: 博士研究生 | K15: 计算机博士2301班 | L15: 博士生2023级 | M15: 江西吉安 | N15: 20230924 | O15: 20231026 | P15: 20231107 | Q15: 28.5 | R15: 否 | T15: 无 | U15: 《Knowledge Graph Transformer Network for Health Status Assessment》，IEEE Transactions on Instrumentation and Measurement，JCR1区 for Health Status Assessment》，IEEE Transactions on Instrumentation and Measurement，JCR1区 | V15: 无 | W15: 无 | X15: 无 | Y15: 否 | Z15: 本人无意愿
A16: 15 | B16: 202103151219 | C16: 王扬帆 | D16: 研究生网络第二党支部 | E16: 团内推优 | F16: 共青团员 | G16: 20021101 | H16: 男 | I16: 汉族 | J16: 硕士研究生 | K16: （专）硕-软件工程2501班 | L16: 硕士生2025级 | M16: 浙江宁波 | N16: 20210801 | O16: 20220330 | P16: 20220516 | Q16: 30 | R16: 否 | T16: 无 | U16: 无 | V16: 本科体育部主要负责人 | W16: 无 | X16: 有 | Y16: 否 | Z16: 无院级以上荣誉
A17: 16 | B17: 211126120036 | C17: 张喆 | D17: 研究生网络第二党支部 | E17: 团内推优 | F17: 共青团员 | G17: 20040531 | H17: 男 | I17: 汉族 | J17: 硕士研究生 | K17: 计算机科学与技术-硕士2602班 | L17: 硕士生2026级 | M17: 浙江金华 | N17: 20220906 | O17: 20230327 | P17: 20230507 | Q17: 66.5 | R17: 否 | S17: 11/75，专业排名 | T17: 2024学年学习单项奖学金三等奖，2022学年学习单项奖学金三等奖 | U17: 无 | V17: 无 | W17: 无 | X17: 是 | Y17: 是
A18: 17 | B18: 221126120210 | C18: 范威江 | D18: 研究生智能媒体与工程中心党支部 | E18: 团内推优 | F18: 共青团员 | G18: 20030331 | H18: 男 | I18: 汉族 | J18: 硕士研究生 | K18: （电子信息）计算机技术-专硕2602班 | L18: 硕士生2026级 | M18: 山西孝义 | N18: 20220903 | O18: 20231215 | P18: 20240424 | Q18: 6.5 | R18: 否 | T18: 无 | U18: 无 | V18: 无 | W18: 无 | X18: 是 | Y18: 否 | Z18: 志愿者工时不足，无院级以上奖励
A19: 18 | B19: 302023315094 | C19: 韩佳乐 | D19: 本科网络工程党支部 | E19: 团内推优 | F19: 共青团员 | G19: 20050427 | H19: 男 | I19: 汉族 | J19: 本科生 | K19: 2023网络工程01 | L19: 本科生2023级 | M19: 河南周口 | N19: 20230909 | O19: 20240327 | P19: 20240424 | R19: 否 | S19: 135/654 | X19: 否 | Y19: 否 | Z19: 其他均无
A20: 19 | B20: 302023315039 | C20: 景晨博 | D20: 本科网络工程党支部 | E20: 团内推优 | F20: 共青团员 | G20: 20050901 | H20: 男 | I20: 汉族 | J20: 本科生 | K20: 2023网络工程01 | L20: 本科生2023级 | M20: 山西运城 | N20: 20230914 | O20: 20240327 | P20: 20240424 | R20: 否 | S20: 168/654 | X20: 否 | Y20: 否 | Z20: 其他均无
A21: 20 | B21: 302023315064 | C21: 仇跃霖 | D21: 本科网络工程党支部 | E21: 团内推优 | F21: 共青团员 | G21: 20040716 | H21: 男 | I21: 汉族 | J21: 本科生 | K21: 2023网络工程01 | L21: 本科生2023级 | M21: 浙江宁波 | N21: 20230915 | O21: 20240327 | P21: 20240424 | R21: 否 | S21: 280/654 | X21: 否 | Y21: 否 | Z21: 其他均无
A22: 21 | B22: 302023315136 | C22: 盛怀瑾 | D22: 本科网络工程党支部 | E22: 团内推优 | F22: 共青团员 | G22: 20050714 | H22: 女 | I22: 汉族 | J22: 本科生 | K22: 2023网络工程01 | L22: 本科生2023级 | M22: 浙江金华 | N22: 20230907 | O22: 20240327 | P22: 20240424 | R22: 否 | S22: 108/654 | X22: 否 | Y22: 否 | Z22: 其他均无
A23: 22 | B23: 302023315151 | C23: 杨诚 | D23: 本科网络工程党支部 | E23: 团内推优 | F23: 共青团员 | G23: 20050705 | H23: 男 | I23: 汉族 | J23: 本科生 | K23: 2023网络工程01 | L23: 本科生2023级 | M23: 浙江台州 | N23: 20230913 | O23: 20240327 | P23: 20240424 | R23: 否 | S23: 不满足 | X23: 否 | Y23: 否 | Z23: 任一排名不足50%
A24: 23 | B24: 302023315346 | C24: 高若晨 | D24: 本科网络工程党支部 | E24: 团内推优 | F24: 共青团员 | G24: 20040701 | H24: 女 | I24: 汉族 | J24: 本科生 | K24: 2023网络工程02 | L24: 本科生2023级 | M24: 青海海东 | N24: 20230901 | O24: 20240327 | P24: 20241218 | Q24: 170h | R24: 否 | S24: 8/16（班级） | T24: 大创省赛三等奖 | V24: 班级团支书 | W24: 否 | X24: 是 | Y24: 是
A25: 24 | B25: 302023315258 | C25: 刘馨阳 | D25: 本科网络工程党支部 | E25: 团内推优 | F25: 共青团员 | G25: 20041008 | H25: 女 | I25: 汉族 | J25: 本科生 | K25: 2023网络工程02 | L25: 本科生2023级 | M25: 辽宁大连 | N25: 20230910 | O25: 20240327 | P25: 20240424 | R25: 否 | S25: 267/654 | X25: 否 | Y25: 否 | Z25: 其他均无
A26: 25 | B26: 302023315239 | C26: 姚茜 | D26: 本科网络工程党支部 | E26: 团内推优 | F26: 共青团员 | G26: 20051116 | H26: 女 | I26: 汉族 | J26: 本科生 | K26: 2023网络工程01 | L26: 本科生2023级 | M26: 江西鄱阳 | N26: 20231120 | O26: 20240926 | P26: 20240424 | R26: 否 | S26: 216/654 | X26: 否 | Y26: 否 | Z26: 其他均无
A27: 26 | B27: 302023315366 | C27: 申帅克 | D27: 本科网络工程党支部 | E27: 团内推优 | F27: 共青团员 | G27: 20050914 | H27: 男 | I27: 汉族 | J27: 本科生 | K27: 2023网络工程01 | L27: 本科生2023级 | M27: 河北邯郸 | N27: 20230901 | O27: 20240926 | P27: 20241218 | R27: 是 | S27: 275/654 | X27: 否 | Y27: 否 | Z27: 上学期有挂科科目
A28: 27 | B28: 302023315326 | C28: 杨云飞 | D28: 本科网络工程党支部 | E28: 团内推优 | F28: 共青团员 | G28: 20051220 | H28: 男 | I28: 汉族 | J28: 本科生 | K28: 2023网络工程01 | L28: 本科生2023级 | M28: 甘肃天水 | N28: 20230901 | O28: 20240926 | P28: 20241218 | R28: 否 | S28: 不满足 | X28: 否 | Y28: 否 | Z28: 任一排名不足50%
A29: 28 | B29: 202103150712 | C29: 楼轩铭 | D29: 研究生智能计算党支部 | E29: 团内推优 | F29: 共青团员 | G29: 20030211 | H29: 男 | I29: 汉族 | J29: 硕士研究生 | K29: 硕-计算机科学与技术2501班 | L29: 硕士生2025级 | M29: 浙江东阳 | N29: 20221211 | O29: 20231030 | P29: 未结业 | R29: 否 | S29: 64/121 | W29: 否 | X29: 是 | Y29: 否 | Z29: 党课未结业，其他均无
A30: 29 | B30: 302023315183 | C30: 娄皓程 | D30: 本科数字媒体党支部 | E30: 团内推优 | F30: 共青团员 | G30: 20040929 | H30: 男 | I30: 汉族 | J30: 本科生 | K30: 2023数字媒体技术01 | L30: 本科生2023级 | M30: 浙江宁波 | N30: 20230915 | O30: 20240328 | P30: 20241218 | Q30: 74.5 | R30: 否 | S30: 5/66，专业排名 | T30: 校第三十五届“青春杯”五四火炬接力赛开幕式表演通报表扬；2025浙江省大学生物理（理论）创新竞赛三等奖 | V30: 无 | W30: 无 | X30: 是 | Y30: 是
A31: 30 | B31: 302023315097 | C31: 朱子健 | D31: 本科数字媒体党支部 | E31: 团内推优 | F31: 共青团员 | G31: 20050428 | H31: 男 | I31: 汉族 | J31: 本科生 | K31: 2023数字媒体技术01 | L31: 本科生2023级 | M31: 浙江金华 | N31: 20230915 | O31: 20240328 | P31: 20240424 | R31: 否 | S31: 196/654 | X31: 放弃 | Y31: 否 | Z31: 其他均无
A32: 31 | B32: 302023315263 | C32: 刘鑫源 | D32: 本科数字媒体党支部 | E32: 团内推优 | F32: 共青团员 | G32: 20050413 | H32: 男 | I32: 汉族 | J32: 本科生 | K32: 2023数字媒体技术01 | L32: 本科生2023级 | M32: 山东临朐 | N32: 20230916 | O32: 20240328 | P32: 20240424 | R32: 否 | S32: 229/654 | X32: 放弃 | Y32: 否 | Z32: 其他均无
A33: 32 | B33: 302023315153 | C33: 彭博 | D33: 本科数字媒体党支部 | E33: 团内推优 | F33: 共青团员 | G33: 20040423 | H33: 男 | I33: 汉族 | J33: 本科生 | K33: 2023数字媒体技术02 | L33: 本科生2023级 | M33: 安徽亳州 | N33: 20230917 | O33: 20240328 | P33: 20240424 | R33: 是 | S33: 304/654 | X33: 放弃 | Y33: 否 | Z33: 上学期有挂科科目
A34: 33 | B34: 302023315215 | C34: 刘昊阳 | D34: 本科数字媒体党支部 | E34: 团内推优 | F34: 共青团员 | G34: 20050811 | H34: 男 | I34: 汉族 | J34: 本科生 | K34: 2023数字媒体技术02 | L34: 本科生2023级 | M34: 浙江金华 | N34: 20230913 | O34: 20240328 | P34: 20240424 | R34: 是 | S34: 不满足 | X34: 放弃 | Y34: 否 | Z34: 上学期有挂科科目，任一排名不足50%
A35: 34 | B35: 302023315303 | C35: 余媛媛 | D35: 本科数字媒体党支部 | E35: 团内推优 | F35: 共青团员 | G35: 20050126 | H35: 女 | I35: 汉族 | J35: 本科生 | K35: 2023数字媒体技术02 | L35: 本科生2023级 | M35: 重庆云阳 | N35: 20230917 | O35: 20240328 | P35: 20240424 | R35: 否 | S35: 11/31（班级） | X35: 放弃 | Y35: 否 | Z35: 其他均无
A36: 35 | B36: 302023315318 | C36: 张渝婕 | D36: 本科数字媒体党支部 | E36: 团内推优 | F36: 共青团员 | G36: 20020218 | H36: 女 | I36: 汉族 | J36: 本科生 | K36: 2023数字媒体技术02 | L36: 本科生2023级 | M36: 甘肃白银 | N36: 20230917 | O36: 20240328 | P36: 20240424 | R36: 是 | S36: 不满足 | X36: 放弃 | Y36: 否 | Z36: 上学期有挂科科目，任一排名不足50%
A37: 36 | B37: 302023315180 | C37: 王志成 | D37: 本科数字媒体党支部 | E37: 团内推优 | F37: 共青团员 | G37: 20050404 | H37: 男 | I37: 汉族 | J37: 本科生 | K37: 2023数字媒体技术02 | L37: 本科生2023级 | M37: 浙江新昌 | N37: 20230917 | O37: 20240928 | P37: 20240424 | R37: 否 | S37: 不满足 | X37: 放弃 | Y37: 否 | Z37: 任一排名不足50%
A38: 37 | B38: 302023315006 | C38: 高雨乐 | D38: 本科数字媒体党支部 | E38: 团内推优 | F38: 共青团员 | G38: 20050208 | H38: 男 | I38: 汉族 | J38: 本科生 | K38: 2023数字媒体技术02 | L38: 本科生2023级 | M38: 浙江温州 | N38: 20240313 | O38: 20240928 | P38: 20241218 | R38: 是 | S38: 不满足 | X38: 放弃 | Y38: 否 | Z38: 上学期有挂科科目，任一排名不足50%
A39: 38 | B39: 221126120209 | C39: 雷雨昕 | D39: 研究生软件第一党支部 | E39: 团内推优 | F39: 共青团员 | G39: 20040528 | H39: 女 | I39: 汉族 | J39: 硕士研究生 | K39: （电子信息）计算机技术-专硕2602班 | L39: 硕士生2026级 | M39: 湖南怀化 | N39: 20220901 | O39: 20240928 | P39: 202412128 | Q39: 26.5 | R39: 否 | S39: 6/31，班级排名 | T39: 2024年浙江工业大学“双百双进”暑期社会实践优秀调研报告三等奖，中国可视化与可视分析大会数据可视化竞赛人文可视化创意赛一等作品 | V39: 院文娱部负责人 | W39: 否 | X39: 是 | Y39: 是
A40: 39 | B40: 202103151216 | C40: 吕扬涛 | D40: 研究生网络第三党支部 | E40: 团内推优 | F40: 共青团员 | G40: 20030721 | H40: 男 | I40: 汉族 | J40: 硕士研究生 | K40: （专）硕-软件工程2501班 | L40: 硕士生2025级 | M40: 浙江温州 | N40: 20210801 | O40: 20211217 | P40: 20220516 | R40: 否 | Y40: 否 | Z40: 其他均无
A41: 40 | B41: 211126120053 | C41: 郑港 | D41: 研究生视觉第一党支部 | E41: 团内推优 | F41: 共青团员 | G41: 20040804 | H41: 男 | I41: 汉族 | J41: 硕士研究生 | K41: 计算机科学与技术-硕士2602班 | L41: 硕士生2026级 | M41: 浙江温州 | N41: 20220905 | O41: 20230328 | P41: 20230507 | Q41: 43.5 | R41: 否 | S41: 24/52 | U41: 发明专利一篇（一作） | V41: 院文娱部负责人，班级团支书 | W41: 无 | X41: 是 | Y41: 是
A42: 41 | B42: 221126120340 | C42: 方柯涵 | D42: 研究生图形党支部 | E42: 团内推优 | F42: 共青团员 | G42: 20040721 | H42: 男 | I42: 汉族 | J42: 硕士研究生 | K42: （电子信息）软件工程-专硕2601班 | L42: 硕士生2026级 | M42: 浙江嘉兴 | N42: 20220831 | O42: 20231025 | P42: 20230507 | Q42: 18.5 | R42: 否 | T42: 1.第十五届中国大学生服务外包创新创业大赛全国赛企业命题类三等奖。 2.浙江工业大学第二十二届“知行杯”初赛三等奖。 3.“卡尔·马克思杯”浙江省大学生理论知识竞赛初赛三等奖。 4.第二十五届浙江工业大学大学生数学建模竞赛三等奖。 5。浙江工业大学计算机学院十佳歌手。 | U42: 无 | V42: 寝室长 | W42: 否 | X42: 是 | Y42: 是
A43: 42 | B43: 211126120033 | C43: 高艺菲 | D43: 研究生软件第一党支部 | E43: 团内推优 | F43: 共青团员 | G43: 20040520 | H43: 女 | I43: 汉族 | J43: 硕士研究生 | K43: 计算机科学与技术-硕士2601班 | L43: 硕士生2026级 | M43: 云南河口 | N43: 20220831 | O43: 20240329 | P43: 未结业 | R43: 否 | S43: 无 | W43: 否 | X43: 是 | Y43: 否 | Z43: 党课未结业，其他均无
A44: 43 | B44: 302023562003 | C44: 凌欣怡 | D44: 本科数据科学与大数据技术和实验班联合党支部 | E44: 团内推优 | F44: 共青团员 | G44: 20040917 | H44: 女 | I44: 汉族 | J44: 本科生 | K44: 2023数据科学与大数据技术(大数据工程应用方向)01 | L44: 本科生2023级 | M44: 浙江杭州 | N44: 20230914 | O44: 20240329 | P44: 20240424 | R44: 否 | S44: 不满足 | Y44: 否 | Z44: 任一排名不足50%
A45: 44 | B45: 302023562016 | C45: 曾辉 | D45: 本科数据科学与大数据技术和实验班联合党支部 | E45: 团内推优 | F45: 共青团员 | G45: 20050223 | H45: 男 | I45: 汉族 | J45: 本科生 | K45: 2023数据科学与大数据技术(大数据工程应用方向)01 | L45: 本科生2023级 | M45: 江西吉安 | N45: 20230914 | O45: 20240329 | P45: 20240424 | R45: 否 | S45: 不满足 | Y45: 否 | Z45: 任一排名不足50%
A46: 45 | B46: 302023334004 | C46: 安家毅 | D46: 本科软件工程中外合作第一党支部 | E46: 团内推优 | F46: 共青团员 | G46: 20050521 | H46: 男 | I46: 汉族 | J46: 本科生 | K46: 2023软件工程(中外合作办学)01 | L46: 本科生2023级 | M46: 江苏沛县 | N46: 20230914 | O46: 20240327 | P46: 20240424 | Q46: 100.5 | R46: 否 | S46: 47/100（专业） | T46: 参与浙江工业大学第35届“五·四”火炬接力赛开幕式演出工作，获院级通报表扬。 | V46: 2024.07-2025.07 在浙江工业大学担任计算机科学与技术学院团委学生会校友会负责人 | W46: 否 | X46: 是 | Y46: 是
A47: 46 | B47: 302023334011 | C47: 谢叶帅 | D47: 本科软件工程中外合作第一党支部 | E47: 团内推优 | F47: 共青团员 | G47: 20050620 | H47: 男 | I47: 汉族 | J47: 本科生 | K47: 2023软件工程(中外合作办学)01 | L47: 本科生2023级 | M47: 浙江台州 | N47: 20230901 | O47: 20240327 | P47: 20241218 | R47: 否 | S47: 179/654 | Y47: 否 | Z47: 其他均无
A48: 47 | B48: 302023334101 | C48: 吴惠莎 | D48: 本科软件工程中外合作第一党支部 | E48: 团内推优 | F48: 共青团员 | G48: 20050425 | H48: 女 | I48: 汉族 | J48: 本科生 | K48: 2023软件工程(中外合作办学)01 | L48: 本科生2023级 | M48: 广东河源 | N48: 20230914 | O48: 20240327 | P48: 20240424 | R48: 否 | S48: 不满足 | Y48: 否 | Z48: 任一排名不足50%
A49: 48 | B49: 302023334069 | C49: 许世熙 | D49: 本科软件工程中外合作第一党支部 | E49: 团内推优 | F49: 共青团员 | G49: 20050628 | H49: 男 | I49: 汉族 | J49: 本科生 | K49: 2023软件工程(中外合作办学)02 | L49: 本科生2023级 | M49: 湖南长沙 | N49: 20230917 | O49: 20240327 | P49: 20241218 | R49: 是 | S49: 不满足 | Y49: 否 | Z49: 上学期有挂科科目，任一排名不足50%
A50: 49 | B50: 302023334060 | C50: 任子尧 | D50: 本科软件工程中外合作第一党支部 | E50: 团内推优 | F50: 共青团员 | G50: 20050521 | H50: 男 | I50: 汉族 | J50: 本科生 | K50: 2023软件工程(中外合作办学)02 | L50: 本科生2023级 | M50: 浙江嵊州 | N50: 20230917 | O50: 20240327 | P50: 20241218 | Q50: 23 | R50: 否 | S50: 251/654 | T50: 2026年高等数学竞赛二等奖 | V50: 寝室长 | W50: 否 | X50: 是 | Y50: 是
A51: 50 | B51: 302023334095 | C51: 陈震烨 | D51: 本科软件工程中外合作第一党支部 | E51: 团内推优 | F51: 共青团员 | G51: 20040603 | H51: 男 | I51: 汉族 | J51: 本科生 | K51: 2023软件工程(中外合作办学)02 | L51: 本科生2023级 | M51: 福建南平 | N51: 20230916 | O51: 20240327 | P51: 20240424 | R51: 是 | S51: 不满足 | Y51: 否 | Z51: 上学期有挂科科目，任一排名不足50%
A52: 51 | B52: 302023334089 | C52: 贾卓翰 | D52: 本科软件工程中外合作第一党支部 | E52: 团内推优 | F52: 共青团员 | G52: 20050611 | H52: 男 | I52: 汉族 | J52: 本科生 | K52: 2023软件工程(中外合作办学)02 | L52: 本科生2023级 | M52: 河南洛阳 | N52: 20230917 | O52: 20240327 | P52: 20241218 | R52: 否 | S52: 不满足 | Y52: 否 | Z52: 任一排名不足50%
A53: 52 | B53: 302023334042 | C53: 韩郴城 | D53: 本科软件工程中外合作第一党支部 | E53: 团内推优 | F53: 共青团员 | G53: 20041229 | H53: 男 | I53: 汉族 | J53: 本科生 | K53: 2023软件工程(中外合作办学)02 | L53: 本科生2023级 | M53: 浙江杭州 | N53: 20230917 | O53: 20241011 | P53: 20240424 | R53: 否 | S53: 14/32（班级） | Y53: 否 | Z53: 其他均无
A54: 53 | B54: 302023334067 | C54: 李瑞敏 | D54: 本科软件工程中外合作第二党支部 | E54: 团内推优 | F54: 共青团员 | G54: 20041209 | H54: 男 | I54: 汉族 | J54: 本科生 | K54: 2023软件工程(中外合作办学)03 | L54: 本科生2023级 | M54: 湖南益阳 | N54: 20230905 | O54: 20240327 | P54: 20240424 | R54: 否 | S54: 不满足 | Y54: 否 | Z54: 任一排名不足50%
A55: 54 | B55: 302023334040 | C55: 姜锦宁 | D55: 本科软件工程中外合作第二党支部 | E55: 团内推优 | F55: 共青团员 | G55: 20041209 | H55: 女 | I55: 汉族 | J55: 本科生 | K55: 2023软件工程(中外合作办学)03 | L55: 本科生2023级 | M55: 浙江舟山 | N55: 20230916 | O55: 20240327 | P55: 20240424 | Q55: 80 | R55: 否 | S55: 76/654 | T55: 雅思总分7.5 2025全国英语竞赛校级二等奖 2024校羽毛球赛团体第二 浙江省新苗杯立项 | V55: 院学生会2023-2024宣传部 edu工作室成员 2024-2025deu工作室主要负责人 | W55: 否 | X55: 是 | Y55: 是
A56: 55 | B56: 302023334049 | C56: 胡艺腾 | D56: 本科软件工程中外合作第二党支部 | E56: 团内推优 | F56: 共青团员 | G56: 20041110 | H56: 男 | I56: 汉族 | J56: 本科生 | K56: 2023软件工程(中外合作办学)03 | L56: 本科生2023级 | M56: 浙江温岭 | N56: 20240913 | O56: 20241010 | P56: 20241218 | R56: 否 | S56: 不满足 | Y56: 否 | Z56: 任一排名不足50%
A57: 56 | B57: 302023103013 | C57: 孟阳晨 | D57: 本科软件工程中外合作第二党支部 | E57: 团内推优 | F57: 共青团员 | G57: 20050422 | H57: 男 | I57: 汉族 | J57: 本科生 | K57: 2023软件工程04 | L57: 本科生2023级 | M57: 浙江绍兴 | N57: 20231018 | O57: 20240424 | P57: 未结业 | R57: 否 | S57: 134/654 | Y57: 否 | Z57: 其他均无
A58: 57 | B58: 302023549074 | C58: 王池康 | D58: 本科软件工程中外合作第二党支部 | E58: 团内推优 | F58: 共青团员 | G58: 20041101 | H58: 男 | I58: 汉族 | J58: 本科生 | K58: 2023软件工程04 | L58: 本科生2023级 | M58: 浙江温州 | N58: 20230915 | O58: 20231215 | P58: 未结业 | R58: 否 | S58: 166/654 | Y58: 否 | Z58: 其他均无
A59: 58 | B59: 202103150515 | C59: 刘博韬 | D59: 研究生智能系统第一党支部 | E59: 团内推优 | F59: 共青团员 | G59: 20030805 | H59: 男 | I59: 汉族 | J59: 硕士研究生 | K59: 硕-计算机科学与技术2502班 | L59: 硕士生2025级 | M59: 浙江金华 | N59: 20210817 | O59: 20220410 | P59: 未结业 | Q59: 41.5 | R59: 否 | T59: 无 | U59: 1. Verifiable Federated Representation Learning for Cross-domain Sequential Recommendation，Proceedings of the ACM Web Conference 2026，已录用，录用时间：2026年4月13日，第二作者（导师第一作者，CCF-A类会议） | V59: 无 | W59: 否 | X59: 是 | Y59: 否 | Z59: 党课未结业
A60: 59 | B60: 202103150627 | C60: 袁志杰 | D60: 研究生智能系统第一党支部 | E60: 团内推优 | F60: 共青团员 | G60: 20020928 | H60: 男 | I60: 汉族 | J60: 硕士研究生 | K60: （专）硕-软件工程2501班 | L60: 硕士生2025级 | M60: 江西都昌 | N60: 20221003 | O60: 20231024 | P60: 20240424 | Q60: 45.5 | R60: 否 | T60: 无 | U60: 1. 水位时间序列双尺度多任务异常检测，WISA 2026，已录用，录用时间：2026年8月7日，第二作者（导师第一作者，CCF-C类会议） | V60: 计算机学生会招就部干事 | W60: 否 | X60: 是 | Y60: 是
A61: 60 | B61: 211126120119 | C61: 吴逸頔 | D61: 研究生网络第一党支部 | E61: 团内推优 | F61: 共青团员 | G61: 20040530 | H61: 男 | I61: 汉族 | J61: 硕士研究生 | K61: 软件工程-学硕2601班 | L61: 硕士生2026级 | M61: 浙江台州 | N61: 20220909 | O61: 20231024 | P61: 20231107 | Q61: 41 | R61: 否 | T61: 三等奖学金、大学生艺术节团体一等奖 | W61: 否 | X61: 是 | Y61: 是
A62: 61 | B62: 221126120173 | C62: 毛定康 | D62: 研究生智能媒体与工程中心党支部 | E62: 团内推优 | F62: 共青团员 | G62: 20040207 | H62: 男 | I62: 汉族 | J62: 硕士研究生 | K62: （电子信息）计算机技术-专硕2601班 | L62: 硕士生2026级 | M62: 浙江临海 | N62: 20220905 | O62: 20231217 | P62: 未结业 | Q62: 30 | R62: 否 | T62: 无 | U62: 无 | V62: 无 | W62: 无 | X62: 否 | Y62: 否 | Z62: 党课未结业、无院级以上荣誉
A63: 62 | B63: 302023315228 | C63: 陈圣威 | D63: 本科软件工程第一党支部 | E63: 团内推优 | F63: 共青团员 | G63: 20020112 | H63: 男 | I63: 汉族 | J63: 本科生 | K63: 2023软件工程01 | L63: 本科生2023级 | M63: 浙江温州 | N63: 20230913 | O63: 20240328 | P63: 20240424 | R63: 否 | S63: 不满足 | Y63: 否 | Z63: 任一排名不足50%
A64: 63 | B64: 302023315375 | C64: 闫晶 | D64: 本科软件工程第一党支部 | E64: 团内推优 | F64: 共青团员 | G64: 20040519 | H64: 女 | I64: 汉族 | J64: 本科生 | K64: 2023软件工程01 | L64: 本科生2023级 | M64: 山西汾阳 | N64: 20230916 | O64: 20240328 | P64: 未结业 | R64: 否 | S64: 不满足 | T64: 2025年10月robocup一等奖；2026年学习单项奖学金三等奖 | U64: ICIC第二作者一篇 | V64: 班级实践委员；校ZJUTDeus计算机社团社长 | W64: 无 | X64: 否 | Y64: 否 | Z64: 任一排名不足50%
A65: 64 | B65: 302023315185 | C65: 刘康 | D65: 本科软件工程第一党支部 | E65: 团内推优 | F65: 共青团员 | G65: 20050530 | H65: 男 | I65: 汉族 | J65: 本科生 | K65: 2023软件工程02 | L65: 本科生2023级 | M65: 四川巴中 | N65: 20230916 | O65: 20240328 | P65: 20240424 | Q65: 50 | R65: 否 | S65: 125/654 | T65: 优秀学生奖学金二等奖；单项学习二、三等奖；办公技能大赛三等奖；专业学术竞赛三等奖 | U65: 无 | V65: 无 | W65: 无 | X65: 是 | Y65: 是
A66: 65 | B66: 302023315034 | C66: 郑皓文 | D66: 本科软件工程第一党支部 | E66: 团内推优 | F66: 共青团员 | G66: 20041231 | H66: 男 | I66: 汉族 | J66: 本科生 | K66: 2023软件工程02 | L66: 本科生2023级 | M66: 浙江宁波 | N66: 20230917 | O66: 20240328 | P66: 20241218 | Q66: 55 | R66: 否 | S66: 不满足 | T66: 无 | U66: 无 | V66: 班级心理委员 | W66: 无 | Y66: 否 | Z66: 任一排名不足50%
A67: 66 | B67: 302023315274 | C67: 姚俊华 | D67: 本科软件工程第一党支部 | E67: 团内推优 | F67: 共青团员 | G67: 20041104 | H67: 男 | I67: 汉族 | J67: 本科生 | K67: 2023软件工程02 | L67: 本科生2023级 | M67: 湖南湘西 | N67: 20230917 | O67: 20240926 | P67: 未结业 | R67: 否 | S67: 不满足 | Y67: 否 | Z67: 任一排名不足50%
A68: 67 | B68: 302023315088 | C68: 葛宇轩 | D68: 本科软件工程第一党支部 | E68: 团内推优 | F68: 共青团员 | G68: 20050512 | H68: 男 | I68: 汉族 | J68: 本科生 | K68: 2023软件工程02 | L68: 本科生2023级 | M68: 浙江宁海 | N68: 20230917 | O68: 20240926 | P68: 20241218 | Q68: 41 | R68: 否 | S68: 159/654 | T68: 无 | U68: 无 | V68: 无 | W68: 无 | X68: 是 | Y68: 否 | Z68: 无院级以上荣誉
A69: 68 | B69: 302023315296 | C69: 包皓然 | D69: 本科软件工程第一党支部 | E69: 团内推优 | F69: 共青团员 | G69: 20050219 | H69: 男 | I69: 汉族 | J69: 本科生 | K69: 2023软件工程02 | L69: 本科生2023级 | M69: 云南楚雄 | N69: 20230913 | O69: 20240926 | P69: 20240424 | Q69: 30 | R69: 否 | S69: 204/654 | T69: 无 | U69: 无 | V69: 无 | W69: 无 | X69: 是 | Y69: 否 | Z69: 无院级以上荣誉
A70: 69 | B70: 202103151526 | C70: 张锦鸿 | D70: 博士生网络党支部 | E70: 团内推优 | F70: 共青团员 | G70: 20021224 | H70: 男 | I70: 汉族 | J70: 博士研究生 | K70: 博-计算机科学与技术2501班 | L70: 博士生2025级 | M70: 上海松江 | N70: 20021224 | O70: 20211101 | P70: 20220516 | R70: 否 | Y70: 否 | Z70: 其他均无
A71: 70 | B71: 302023315384 | C71: 陈金钊 | D71: 本科软件工程第三党支部 | E71: 党员推荐 | F71: 共青团员 | G71: 20050721 | H71: 男 | I71: 汉族 | J71: 本科生 | K71: 2023软件工程06 | L71: 本科生2023级 | M71: 福建泉州 | N71: 20230909 | O71: 20240417 | P71: 20240424 | R71: 否 | S71: 234/654 | X71: 否 | Y71: 否 | Z71: 其他均无
A72: 71 | B72: 302023315041 | C72: 周莹莹 | D72: 本科软件工程第三党支部 | E72: 团内推优 | F72: 共青团员 | G72: 20041104 | H72: 女 | I72: 汉族 | J72: 本科生 | K72: 2023软件工程05 | L72: 本科生2023级 | M72: 安徽宣城 | N72: 20230906 | O72: 20240330 | P72: 20240424 | R72: 否 | S72: 202/654 | X72: 否 | Y72: 否 | Z72: 其他均无
A73: 72 | B73: 302023315068 | C73: 厉仁杰 | D73: 本科软件工程第三党支部 | E73: 团内推优 | F73: 共青团员 | G73: 20040802 | H73: 男 | I73: 汉族 | J73: 本科生 | K73: 2023软件工程05 | L73: 本科生2023级 | M73: 浙江舟山 | N73: 20230915 | O73: 20240330 | P73: 20240424 | R73: 否 | S73: 120/654 | X73: 否 | Y73: 否 | Z73: 其他均无
A74: 73 | B74: 302023315069 | C74: 韩沛航 | D74: 本科软件工程第三党支部 | E74: 团内推优 | F74: 共青团员 | G74: 20050720 | H74: 男 | I74: 汉族 | J74: 本科生 | K74: 2023软件工程05 | L74: 本科生2023级 | M74: 浙江宁波 | N74: 20230914 | O74: 20240330 | P74: 20240424 | R74: 否 | S74: 204/654 | X74: 否 | Y74: 否 | Z74: 其他均无
A75: 74 | B75: 302023315103 | C75: 范绎诚 | D75: 本科软件工程第三党支部 | E75: 团内推优 | F75: 共青团员 | G75: 20040811 | H75: 男 | I75: 汉族 | J75: 本科生 | K75: 2023软件工程06 | L75: 本科生2023级 | M75: 浙江丽水 | N75: 20230913 | O75: 20240330 | P75: 20240424 | R75: 否 | S75: 221/654 | X75: 否 | Y75: 否 | Z75: 其他均无
A76: 75 | B76: 302023315313 | C76: 喻文卓 | D76: 本科软件工程第三党支部 | E76: 团内推优 | F76: 共青团员 | G76: 20040203 | H76: 男 | I76: 汉族 | J76: 本科生 | K76: 2023软件工程06 | L76: 本科生2023级 | M76: 甘肃金昌 | N76: 20230910 | O76: 20240330 | P76: 20240424 | R76: 否 | S76: 不满足 | Y76: 否 | Z76: 任一排名不足50%
A77: 76 | B77: 302023315083 | C77: 吴俊佟 | D77: 本科软件工程第三党支部 | E77: 团内推优 | F77: 共青团员 | G77: 20050120 | H77: 男 | I77: 汉族 | J77: 本科生 | K77: 2023软件工程06 | L77: 本科生2023级 | M77: 浙江温州 | N77: 20230913 | O77: 20240330 | P77: 20240424 | R77: 否 | S77: 不满足 | Y77: 否 | Z77: 任一排名不足50%
A78: 77 | B78: 302023315090 | C78: 邵宇轩 | D78: 本科软件工程第三党支部 | E78: 团内推优 | F78: 共青团员 | G78: 20050215 | H78: 男 | I78: 汉族 | J78: 本科生 | K78: 2023软件工程06 | L78: 本科生2023级 | M78: 浙江湖州 | N78: 20230911 | O78: 20240330 | P78: 20240424 | R78: 否 | S78: 214/654 | X78: 否 | Y78: 否 | Z78: 其他均无
A79: 78 | B79: 302023315072 | C79: 杨均浪 | D79: 本科软件工程第三党支部 | E79: 团内推优 | F79: 共青团员 | G79: 20050110 | H79: 男 | I79: 汉族 | J79: 本科生 | K79: 2023软件工程06 | L79: 本科生2023级 | M79: 浙江温州 | N79: 20230917 | O79: 20240330 | P79: 20240424 | R79: 否 | S79: 不满足 | Y79: 否 | Z79: 任一排名不足50%
A80: 79 | B80: 302023315110 | C80: 丁崇轩 | D80: 本科软件工程第三党支部 | E80: 团内推优 | F80: 共青团员 | G80: 20050508 | H80: 男 | I80: 汉族 | J80: 本科生 | K80: 2023软件工程05 | L80: 本科生2023级 | M80: 浙江舟山 | N80: 20230915 | O80: 20240926 | P80: 20240424 | Q80: 134 | R80: 否 | S80: 259/654 | T80: 23年办公技能大赛三等奖，23年专业学术竞赛三等奖，26年网易问剑gamejam优秀奖 | V80: 无 | W80: 无 | X80: 是 | Y80: 是
A81: 80 | B81: 302023315106 | C81: 蒋佳峻 | D81: 本科软件工程第三党支部 | E81: 团内推优 | F81: 共青团员 | G81: 20041126 | H81: 男 | I81: 汉族 | J81: 本科生 | K81: 2023软件工程05 | L81: 本科生2023级 | M81: 甘肃天水 | N81: 20230916 | O81: 20240926 | P81: 20241218 | R81: 否 | S81: 204/654 | X81: 否 | Y81: 否 | Z81: 其他均无
A82: 81 | B82: 302023315169 | C82: 诸佳璐 | D82: 本科软件工程第三党支部 | E82: 团内推优 | F82: 共青团员 | G82: 20041021 | H82: 女 | I82: 汉族 | J82: 本科生 | K82: 2023软件工程05 | L82: 本科生2023级 | M82: 浙江温州 | N82: 20230916 | O82: 20240926 | P82: 20240424 | R82: 否 | S82: 不满足 | Y82: 否 | Z82: 任一排名不足50%
A83: 82 | B83: 221126120214 | C83: 周沫 | D83: 研究生视觉第二党支部 | E83: 团内推优 | F83: 共青团员 | G83: 20040521 | H83: 男 | I83: 汉族 | J83: 硕士研究生 | K83: （电子信息）计算机技术-专硕2602班 | L83: 硕士生2026级 | M83: 浙江宁波 | N83: 20220906 | O83: 20231025 | P83: 20231107 | Q83: 10 | R83: 否 | T83: 无 | U83: 无 | V83: 无 | W83: 否 | X83: 有 | Y83: 否 | Z83: 无院级以上荣誉
A84: 83 | B84: 302023315149 | C84: 黎必良 | D84: 本科软件工程第二党支部 | E84: 团内推优 | F84: 共青团员 | G84: 20050517 | H84: 男 | I84: 汉族 | J84: 本科生 | K84: 2023软件工程03 | L84: 本科生2023级 | M84: 浙江台州 | N84: 20230913 | O84: 20240928 | P84: 20240424 | Q84: 3.5 | R84: 否 | S84: 不满足 | T84: 无 | V84: 无 | W84: 无 | X84: 否 | Y84: 否 | Z84: 任一排名不足50%，志愿者工时不足，无院级以上荣誉
A85: 84 | B85: 302023315111 | C85: 李思远 | D85: 本科软件工程第二党支部 | E85: 团内推优 | F85: 共青团员 | G85: 20041210 | H85: 男 | I85: 汉族 | J85: 本科生 | K85: 2023软件工程03 | L85: 本科生2023级 | M85: 江苏泰州 | N85: 20230917 | O85: 20240928 | P85: 20241218 | Q85: 45 | R85: 否 | S85: 不满足 | T85: 无 | V85: 无 | W85: 无 | X85: 是 | Y85: 否 | Z85: 任一排名不足50%
A86: 85 | B86: 302023315134 | C86: 吴倩倩 | D86: 本科软件工程第二党支部 | E86: 团内推优 | F86: 共青团员 | G86: 20050318 | H86: 女 | I86: 汉族 | J86: 本科生 | K86: 2023软件工程04 | L86: 本科生2023级 | M86: 浙江湖州 | N86: 20230910 | O86: 20240928 | P86: 20240424 | Q86: 178 | R86: 否 | S86: 132/654 | T86: 24年办公技能大赛三等奖，25年办公技能大赛二等奖，26年校园提案大赛三等奖 | V86: 2024学年精弘网络常务处副部长，勤就负责人 | W86: 无 | X86: 否 | Y86: 否 | Z86: 本人无意愿
A87: 86 | B87: 302023315367 | C87: 韩梦茜 | D87: 本科软件工程第二党支部 | E87: 团内推优 | F87: 共青团员 | G87: 20041211 | H87: 女 | I87: 汉族 | J87: 本科生 | K87: 2023软件工程04 | L87: 本科生2023级 | M87: 河北保定 | N87: 20230910 | O87: 20240928 | P87: 20241218 | Q87: 138.5 | R87: 否 | S87: 222/654 | T87: 寝室达人秀二等奖 | V87: 心理委员 | W87: 无 | X87: 否 | Y87: 否 | Z87: 本人无意愿
A88: 87 | B88: 221126120188 | C88: 卢勇捷 | D88: 研究生软件第一党支部 | E88: 团内推优 | F88: 共青团员 | G88: 20031227 | H88: 男 | I88: 汉族 | J88: 硕士研究生 | K88: （电子信息）计算机技术-专硕2602班 | L88: 硕士生2026级 | M88: 浙江丽水 | N88: 20240301 | O88: 20240928 | P88: 202412128 | Q88: 88 | R88: 否 | S88: “12/31，班级排名” | T88: 青马工程第十三期“计忆青年团校”始业考暨党团知识竞赛一等奖 | V88: 学院办公室学生秘书 | W88: 否 | X88: 是 | Y88: 是
A89: 88 | B89: 202103151405 | C89: 何瑞敏 | D89: 研究生视觉第二党支部 | E89: 团内推优 | F89: 共青团员 | G89: 20020820 | H89: 男 | I89: 汉族 | J89: 硕士研究生 | K89: 硕-计算机科学与技术2502班 | L89: 硕士生2025级 | M89: 广东茂名 | N89: 20210801 | O89: 20211217 | P89: 20220516 | Q89: 20 | R89: 否 | T89: 无 | U89: 无 | V89: 无 | W89: 否 | X89: 有 | Y89: 否 | Z89: 无院级以上荣誉
A90: 89 | B90: 211126120005 | C90: 崔艺洁 | D90: 研究生智能系统第一党支部 | E90: 团内推优 | F90: 共青团员 | G90: 20040131 | H90: 女 | I90: 汉族 | J90: 硕士研究生 | K90: 计算机科学与技术-硕士2601班 | L90: 硕士生2026级 | M90: 上海 | N90: 20220903 | O90: 20231024 | P90: 20240424 | Q90: 54 | R90: 否 | T90: 院级优秀团干，暑期实践优秀调研报告三等奖 | U90: 无 | V90: 校友会负责人，计学2601班长 | W90: 否 | X90: 是 | Y90: 是
A91: 90 | B91: 221126120203 | C91: 陶德宇 | D91: 研究生智能媒体与工程中心党支部 | E91: 团内推优 | F91: 共青团员 | G91: 20041119 | H91: 男 | I91: 汉族 | J91: 硕士研究生 | K91: （电子信息）计算机技术-专硕2602班 | L91: 硕士生2026级 | M91: 河南驻马店 | N91: 20221121 | O91: 20231216 | P91: 20240424 | R91: 否 | X91: 否 | Y91: 否 | Z91: 无院级以上荣誉
A92: 91 | B92: 302023315054 | C92: 袁锦文 | D92: 本科计算机科学与技术第一党支部 | E92: 团内推优 | F92: 共青团员 | G92: 20050828 | H92: 男 | I92: 汉族 | J92: 本科生 | K92: 2023计算机科学与技术01 | L92: 本科生2023级 | M92: 江西赣州 | N92: 20230907 | O92: 20240328 | P92: 未结业 | R92: 否 | S92: 不满足 | X92: 否 | Y92: 否 | Z92: 任一排名不足50%
A93: 92 | B93: 302023315222 | C93: 蒋妍 | D93: 本科计算机科学与技术第一党支部 | E93: 团内推优 | F93: 共青团员 | G93: 20040901 | H93: 女 | I93: 汉族 | J93: 本科生 | K93: 2023计算机科学与技术01 | L93: 本科生2023级 | M93: 浙江文成 | N93: 20230909 | O93: 20240328 | P93: 20240424 | R93: 否 | S93: 96/654 | X93: 否 | Y93: 否 | Z93: 其他均无
A94: 93 | B94: 302023315138 | C94: 李奕霖 | D94: 本科计算机科学与技术第一党支部 | E94: 团内推优 | F94: 共青团员 | G94: 20050727 | H94: 女 | I94: 汉族 | J94: 本科生 | K94: 2023计算机科学与技术02 | L94: 本科生2023级 | M94: 浙江丽水 | N94: 20230913 | O94: 20240328 | P94: 20240424 | R94: 否 | S94: 不满足 | X94: 否 | Y94: 否 | Z94: 任一排名不足50%
A95: 94 | B95: 302023315024 | C95: 覃圣勐 | D95: 本科计算机科学与技术第一党支部 | E95: 团内推优 | F95: 共青团员 | G95: 20031003 | H95: 男 | I95: 壮族 | J95: 本科生 | K95: 2023计算机科学与技术02 | L95: 本科生2023级 | M95: 广西柳州 | N95: 20230913 | O95: 20240328 | P95: 20240424 | R95: 否 | S95: 不满足 | X95: 否 | Y95: 否 | Z95: 任一排名不足50%
A96: 95 | B96: 302023315327 | C96: 杨乐健 | D96: 本科计算机科学与技术第一党支部 | E96: 团内推优 | F96: 共青团员 | G96: 20040922 | H96: 男 | I96: 汉族 | J96: 本科生 | K96: 2023计算机科学与技术02 | L96: 本科生2023级 | M96: 上海闸北 | N96: 20230913 | O96: 20240328 | P96: 20240424 | R96: 否 | S96: 61/654 | X96: 否 | Y96: 否 | Z96: 其他均无
A97: 96 | B97: 302023315109 | C97: 韩鹏勇 | D97: 本科计算机科学与技术第一党支部 | E97: 团内推优 | F97: 共青团员 | G97: 20050314 | H97: 男 | I97: 汉族 | J97: 本科生 | K97: 2023计算机科学与技术02 | L97: 本科生2023级 | M97: 浙江舟山 | N97: 20230901 | O97: 20240328 | P97: 20240424 | R97: 否 | S97: 不满足 | X97: 否 | Y97: 否 | Z97: 任一排名不足50%
A98: 97 | B98: 302023315229 | C98: 丁圣佑 | D98: 本科计算机科学与技术第一党支部 | E98: 团内推优 | F98: 共青团员 | G98: 20040801 | H98: 男 | I98: 汉族 | J98: 本科生 | K98: 2023计算机科学与技术02 | L98: 本科生2023级 | M98: 浙江杭州 | N98: 20230915 | O98: 20240328 | P98: 20241218 | R98: 否 | S98: 不满足 | X98: 否 | Y98: 否 | Z98: 任一排名不足50%
A99: 98 | B99: 302023315098 | C99: 何宇恒 | D99: 本科计算机科学与技术第一党支部 | E99: 团内推优 | F99: 共青团员 | G99: 20050330 | H99: 男 | I99: 汉族 | J99: 本科生 | K99: 2023计算机科学与技术02 | L99: 本科生2023级 | M99: 浙江鄞州 | N99: 20230917 | O99: 20240328 | P99: 20240424 | R99: 否 | S99: 222/654 | X99: 否 | Y99: 否 | Z99: 其他均无
A100: 99 | B100: 302023315386 | C100: 郑志彬 | D100: 本科计算机科学与技术第一党支部 | E100: 团内推优 | F100: 共青团员 | G100: 20041108 | H100: 男 | I100: 汉族 | J100: 本科生 | K100: 2023计算机科学与技术02 | L100: 本科生2023级 | M100: 福建泉州 | N100: 20230901 | O100: 20240328 | P100: 20240424 | R100: 否 | S100: 242/654 | X100: 否 | Y100: 否 | Z100: 其他均无
...

Sheet 导出计数_现党支部_2
A1: 现党支部 | B1: 计数 | C1: 占比
A2: 研究生软件第二党支部 | B2: 3 | C2: 0.16666667
A3: 研究生软件第一党支部 | B3: 3 | C3: 0.16666667
A4: 研究生视觉第二党支部 | B4: 3 | C4: 0.16666667
A5: 研究生网络第二党支部 | B5: 2 | C5: 0.11111111
A6: 研究生网络第一党支部 | B6: 3 | C6: 0.16666667
A7: 研究生智能计算党支部 | B7: 1 | C7: 0.055555556
A8: 研究生智能媒体与工程中心党支部 | B8: 2 | C8: 0.11111111
A9: 研究生智能系统第二党支部 | B9: 1 | C9: 0.055555556
B10: 7

Sheet 导出计数_现党支部_1
A1: 现党支部 | B1: 计数 | C1: 普通名额计数 | D1: 普通名额占比 | E1: 普通名额分配 | F1: 高知人数 | G1: 高知名额占比 | H1: 高知名额分配 | I1: 总名额分配
A2: 本科计算机科学与技术第二党支部 | B2: 14 | C2: 14 | D2: =29*(C2/99) -> 4.1010101 | E2: 4 | F2: 0 | G2: 0 | H2: 0 | I2: =E2+H2 -> 4
A3: 本科计算机科学与技术第一党支部 | B3: 9 | C3: 9 | D3: =29*(C3/99) -> 2.6363636 | E3: 2 | F3: 0 | G3: 0 | H3: 0 | I3: =E3+H3 -> 2
A4: 本科软件工程第二党支部 | B4: 9 | C4: 9 | D4: =29*(C4/99) -> 2.6363636 | E4: 2 | F4: 0 | G4: 0 | H4: 0 | I4: =E4+H4 -> 2
A5: 本科软件工程第三党支部 | B5: 9 | C5: 9 | D5: =29*(C5/99) -> 2.6363636 | E5: 2 | F5: 0 | G5: 0 | H5: 0 | I5: =E5+H5 -> 2
A6: 本科软件工程第一党支部 | B6: 11 | C6: 11 | D6: =29*(C6/99) -> 3.2222222 | E6: 3 | F6: 0 | G6: 0 | H6: 0 | I6: =E6+H6 -> 3
A7: 本科软件工程中外合作第二党支部 | B7: 3 | C7: 3 | D7: =29*(C7/99) -> 0.87878788 | E7: 1 | F7: 0 | G7: 0 | H7: 0 | I7: =E7+H7 -> 1
A8: 本科软件工程中外合作第一党支部 | B8: 7 | C8: 7 | D8: =29*(C8/99) -> 2.0505051 | E8: 2 | F8: 0 | G8: 0 | H8: 0 | I8: =E8+H8 -> 2
A9: 本科数据科学与大数据技术和实验班联合党支部 | B9: 6 | C9: 6 | D9: =29*(C9/99) -> 1.7575758 | E9: 2 | F9: 0 | G9: 0 | H9: 0 | I9: =E9+H9 -> 2
A10: 本科数字媒体党支部 | B10: 5 | C10: 5 | D10: =29*(C10/99) -> 1.4646465 | E10: 1 | F10: 0 | G10: 0 | H10: 0 | I10: =E10+H10 -> 1
A11: 本科网络工程党支部 | B11: 10 | C11: 10 | D11: =29*(C11/99) -> 2.9292929 | E11: 3 | F11: 0 | G11: 0 | H11: 0 | I11: =E11+H11 -> 3
A12: 博士生软件党支部 | B12: 2 | C12: 2 | D12: =29*(C12/99) -> 0.58585859 | E12: 1 | F12: 0 | G12: 0 | H12: 0 | I12: =E12+H12 -> 1
A13: 博士生图像视觉党支部 | B13: 2 | C13: 2 | D13: =29*(C13/99) -> 0.58585859 | E13: 1 | F13: 0 | G13: 0 | H13: 0 | I13: =E13+H13 -> 1
A14: 研究生软件第二党支部 | B14: 3 | C14: 0 | D14: =29*(C14/99) -> 0 | E14: 0 | F14: 3 | G14: =5*(F14/18) -> 0.83333333 | H14: 1 | I14: =E14+H14 -> 1
A15: 研究生软件第一党支部 | B15: 5 | C15: 2 | D15: =29*(C15/99) -> 0.58585859 | E15: 1 | F15: 3 | G15: =5*(F15/18) -> 0.83333333 | H15: 1 | I15: =E15+H15 -> 2
A16: 研究生视觉第二党支部 | B16: 3 | C16: 0 | D16: =29*(C16/99) -> 0 | E16: 0 | F16: 3 | G16: =5*(F16/18) -> 0.83333333 | H16: 1 | I16: =E16+H16 -> 1
A17: 研究生视觉第一党支部 | B17: 1 | C17: 1 | D17: =29*(C17/99) -> 0.29292929 | E17: 0 | F17: 0 | G17: =5*(F17/18) -> 0 | H17: 0 | I17: =E17+H17 -> 0
A18: 研究生图形党支部 | B18: 1 | C18: 1 | D18: =29*(C18/99) -> 0.29292929 | E18: 0 | F18: 0 | G18: =5*(F18/18) -> 0 | H18: 0 | I18: =E18+H18 -> 0
A19: 研究生网络第二党支部 | B19: 4 | C19: 2 | D19: =29*(C19/99) -> 0.58585859 | E19: 1 | F19: 2 | G19: =5*(F19/18) -> 0.55555556 | H19: 0 | I19: =E19+H19 -> 1
A20: 研究生网络第一党支部 | B20: 5 | C20: 2 | D20: =29*(C20/99) -> 0.58585859 | E20: 1 | F20: 3 | G20: =5*(F20/18) -> 0.83333333 | H20: 1 | I20: =E20+H20 -> 2
A21: 研究生智能计算党支部 | B21: 2 | C21: 1 | D21: =29*(C21/99) -> 0.29292929 | E21: 0 | F21: 1 | G21: =5*(F21/18) -> 0.27777778 | H21: 0 | I21: =E21+H21 -> 0
A22: 研究生智能媒体与工程中心党支部 | B22: 2 | C22: 0 | D22: =29*(C22/99) -> 0 | E22: 0 | F22: 2 | G22: =5*(F22/18) -> 0.55555556 | H22: 0 | I22: =E22+H22 -> 0
A23: 研究生智能系统第二党支部 | B23: 1 | C23: 0 | D23: =29*(C23/99) -> 0 | E23: 0 | F23: 1 | G23: =5*(F23/18) -> 0.27777778 | H23: 0 | I23: =E23+H23 -> 0
A24: 研究生智能系统第一党支部 | B24: 3 | C24: 3 | D24: =29*(C24/99) -> 0.87878788 | E24: 1 | F24: 0 | G24: =5*(F24/18) -> 0 | H24: 0 | I24: =E24+H24 -> 1
A25: 总计 | B25: =SUM(B2:B24) -> 117 | C25: =SUM(C2:C24) -> 99 | D25: =29*(C25/99) -> 29 | E25: =SUM(E2:E24) -> 28 | F25: =SUM(F2:F24) -> 18 | G25: =5*(F25/18) -> 5 | H25: =SUM(H2:H24) -> 4 | I25: =SUM(I2:I24) -> 32
A26: 公开答辩名额（拟定） | E26: 4 | H26: 3 | I26: =E26+H26 -> 7
