Workbook

Sheet Sheet1
A1: 序号 | B1: 学号 | C1: 姓名 | D1: 现党支部 | E1: 推荐方式 | F1: 政治面貌 | G1: 出生日期 | H1: 性别 | I1: 民族 | J1: 类别 | K1: 班级 | L1: 年级 | M1: 籍贯 | N1: 申请入党时间 | O1: 确立入党积极分子时间 | P1: 党校结业时间 | Q1: 截止2026年10月14日志愿者工时数 | R1: 上学期是否有挂科 | S1: 本科生学习情况（上学期成绩在班级或专业或年级排名），格式如“5/23，班级排名” | T1: 截止2026年10月14日大学/研究生期间竞赛获奖或者其他文体活动获奖、或者荣誉（院级及以上） （表中获奖荣誉为截止10月14日情况） | U1: 截止2026年10月14日大学期间发表论文、专利情况（此列只针对研究生） | V1: 截止2026年10月14日大学期间/研究生期间任职情况 （表中任职为截止10月9日情况） | W1: 是否有违纪（包括寝室违纪被通报），请实事求是填写 | X1: 是否有发展意愿 | Y1: 是否已符合党员发展基本条件（由党建老师填写） | Z1: 不符合原因
A2: 1 | B2: 221124120331 | C2: 韩云瑞 | D2: 研究生智能系统第二党支部 | E2: 团内推优 | F2: 共青团员 | G2: 20030103 | H2: 男 | I2: 汉族 | J2: 硕士研究生 | K2: 硕-软件工程2412班 | L2: 硕士生2024级 | M2: 江西景德镇 | N2: 20200903 | O2: 20210401 | P2: 20210424 | Q2: 253 | R2: 否 | S2: 191/223 | T2: 1.2024年双11焕新活动三等奖；2.2024学年硕士一等奖学金；3.2025学年院级优秀团员 | U2: 无 | V2: 无 | W2: 无 | X2: 是 | Y2: 是
A3: 2 | B3: 211124120091 | C3: 陈亮 | D3: 研究生网络第一党支部 | E3: 团内推优 | F3: 群众 | G3: 20010419 | H3: 男 | I3: 汉族 | J3: 硕士研究生 | K3: 硕-软件工程2404班 | L3: 硕士生2024级 | M3: 江苏泰州 | N3: 20230927 | O3: 20240330 | P3: 未结业 | R3: 否 | Y3: 否 | Z3: 政治面貌不符
A4: 3 | B4: 221124120351 | C4: 周凯宁 | D4: 研究生网络第一党支部 | E4: 团内推优 | F4: 共青团员 | G4: 20020826 | H4: 男 | I4: 汉族 | J4: 硕士研究生 | K4: 硕-软件工程2412班 | L4: 硕士生2024级 | M4: 浙江衢州 | N4: 20200930 | O4: 20210406 | P4: 20241218 | Q4: 29 | R4: 否 | T4: 一等奖学金、二等奖学金、研究生新生篮球赛第三名 | U4: 周凯宁、谢亮、赵邢、杨晓、郝圣禹、单剑辉、孙国道、梁荣华，一种基于生成对抗模仿学习的思维链推理训练方法；COLING2027在投 | W4: 否 | X4: 是 | Y4: 是
A5: 4 | B5: 221123120137 | C5: 李亦然 | D5: 博士生网络党支部 | E5: 团内推优 | F5: 共青团员 | G5: 20010619 | H5: 男 | I5: 汉族 | J5: 博士研究生 | K5: 博-计算机科学与技术2501班 | L5: 博士生2025级 | M5: 浙江台州 | N5: 20230917 | O5: 20240329 | P5: 20231107 | R5: 否 | X5: 无 | Y5: 否 | Z5: 其他均无
A6: 5 | B6: 121126120045 | C6: 林子阳 | D6: 博士生网络党支部 | E6: 团内推优 | F6: 共青团员 | G6: 20011102 | H6: 男 | I6: 汉族 | J6: 博士研究生 | K6: 博士-电信2601班 | L6: 博士生2026级 | M6: 安徽亳州 | N6: 20230917 | O6: 20240925 | P6: 20231107 | Q6: 19 | R6: 否 | T6: 无 | U6: IEEE Transactions on Wireless Communications论文一篇（CCFB,中科院一区top），专利2篇 | V6: 2024-2025 研究生艺术团宣传部部长 | W6: 无 | X6: 是 | Y6: 是
A7: 6 | B7: 221124120206 | C7: 林威廷 | D7: 研究生网络第三党支部 | E7: 团内推优 | F7: 共青团员 | G7: 20020331 | H7: 男 | I7: 汉族 | J7: 硕士研究生 | K7: 硕-计算机技术2408班 | L7: 硕士生2024级 | M7: 浙江台州 | N7: 20200929 | O7: 20221015 | P7: 20241218 | R7: 否 | Y7: 否 | Z7: 其他均无
A8: 7 | B8: 211124120048 | C8: 李婷婷 | D8: 研究生网络第二党支部 | E8: 团内推优 | F8: 共青团员 | G8: 20021121 | H8: 女 | I8: 汉族 | J8: 硕士研究生 | K8: 硕-计算机科学与技术2402班 | L8: 硕士生2024级 | M8: 河南驻马店 | N8: 20210417 | O8: 20211104 | P8: 20250508 | Q8: 43 | R8: 否 | S8: 30/30 | T8: 院级优秀团员 | U8: 无 | V8: 无 | W8: 无 | X8: 有 | Y8: 是
A9: 8 | B9: 211124120038 | C9: 魏董杭 | D9: 研究生网络第二党支部 | E9: 团内推优 | F9: 共青团员 | G9: 20010914 | H9: 男 | I9: 汉族 | J9: 硕士研究生 | K9: 硕-计算机科学与技术2402班 | L9: 硕士生2024级 | M9: 浙江湖州 | N9: 20200914 | O9: 20210418 | P9: 未结业 | R9: 否 | Y9: 否 | Z9: 党课未结业，其他均无
A10: 9 | B10: 221124120256 | C10: 鲁屹青 | D10: 研究生图形党支部 | E10: 团内推优 | F10: 共青团员 | G10: 20011227 | H10: 男 | I10: 汉族 | J10: 硕士研究生 | K10: 硕-计算机技术2409班 | L10: 硕士生2024级 | M10: 浙江杭州 | N10: 20200922 | O10: 20210507 | P10: 20241218 | R10: 否 | X10: 无发展意愿 | Y10: 否 | Z10: 其他均无
A11: 10 | B11: 221124120167 | C11: 徐文峰 | D11: 研究生软件第一党支部 | E11: 团内推优 | F11: 共青团员 | G11: 20021031 | H11: 男 | I11: 汉族 | J11: 硕士研究生 | K11: 硕-计算机技术2406班 | L11: 硕士生2024级 | M11: 浙江温州 | N11: 20210601 | O11: 20230324 | P11: 20241218 | Q11: 12 | R11: 否 | S11: 5/21，班级排名 | U11: CCF-C论文一篇 | V11: 寝室楼层长 | W11: 否 | X11: 是 | Y11: 是
A12: 11 | B12: 221124120283 | C12: 华聪 | D12: 研究生软件第二党支部 | E12: 团内推优 | F12: 共青团员 | G12: 20020720 | H12: 男 | I12: 汉族 | J12: 硕士研究生 | K12: 硕-计算机技术2410班 | L12: 硕士生2024级 | M12: 湖北黄冈 | N12: 20220926 | O12: 20230425 | P12: 20230526 | Q12: 9.5 | R12: 否 | S12: 174/223 | T12: 无 | U12: 无 | V12: 无 | W12: 无 | X12: 是 | Y12: 否 | Z12: 志愿者工时不足，无院级以上奖励
A13: 12 | B13: 221124120120 | C13: 刘塞 | D13: 研究生软件第二党支部 | E13: 团内推优 | F13: 共青团员 | G13: 20020228 | H13: 男 | I13: 汉族 | J13: 硕士研究生 | K13: 硕-计算机技术2405班 | L13: 硕士生2024级 | M13: 河北石家庄 | N13: 20201210 | O13: 20211004 | P13: 20241218 | Q13: 10.5 | R13: 否 | S13: 70/223 | T13: 院篮球新生杯三等奖 | U13: 基于潜在空间学习的伪造视频检测方法及系2025.09 授权 一种基于图卷积建模与指纹库匹配的图像伪造溯源方法2025.08 授权 一种注意力增强与自适应频率选择的伪造定位方法2026.08 授权 | V13: 无 | W13: 无 | X13: 是 | Y13: 是
A14: 13 | B14: 111122120003 | C14: 李明达 | D14: 博士生软件党支部 | E14: 团内推优 | F14: 共青团员 | G14: 19980506 | H14: 男 | I14: 汉族 | J14: 博士研究生 | K14: (博)计算机科学与技术2201 | L14: 博士生2022级 | M14: 浙江温州 | N14: 20221220 | O14: 20231026 | P14: 20240424 | Q14: 11 | R14: 否 | T14: 1. 互联网+国赛银奖：基于内核日志的智能安全运维平台银奖；2. 第十九届“挑战杯”科技创新揭榜挂帅二等奖；3.“华为杯”第三届中国研究生网络安全创新大赛二等奖 | U14: 1.HER-PT: An intelligent penetration testing framework with Hindsight Experience Replay, Computers & Security, Volume 152, 2025；2. TraceBack: Sequence-enhanced and causality-driven attack scenario reconstruction from provenance graphs, Knowledge-Based Systems, Volume 351, Part C, 2026 | V14: 无 | W14: 无 | X14: 是 | Y14: 是
A15: 14 | B15: 2112112257 | C15: 黄嘉诚 | D15: 博士生图像视觉党支部 | E15: 团内推优 | F15: 群众 | G15: 19980419 | H15: 男 | I15: 汉族 | J15: 博士研究生 | K15: 计算机博士2301班 | L15: 博士生2023级 | M15: 江西吉安 | N15: 20230924 | O15: 20231026 | P15: 20231107 | Q15: 28.5 | R15: 否 | T15: 无 | U15: 《Knowledge Graph Transformer Network for Health Status Assessment》，IEEE Transactions on Instrumentation and Measurement，JCR1区 for Health Status Assessment》，IEEE Transactions on Instrumentation and Measurement，JCR1区 | V15: 无 | W15: 无 | X15: 无 | Y15: 否 | Z15: 本人无意愿
A16: 15 | B16: 202103151219 | C16: 王扬帆 | D16: 研究生网络第二党支部 | E16: 团内推优 | F16: 共青团员 | G16: 20021101 | H16: 男 | I16: 汉族 | J16: 硕士研究生 | K16: （专）硕-软件工程2501班 | L16: 硕士生2025级 | M16: 浙江宁波 | N16: 20210801 | O16: 20220330 | P16: 20220516 | Q16: 30 | R16: 否 | T16: 无 | U16: 无 | V16: 本科体育部主要负责人 | W16: 无 | X16: 有 | Y16: 否 | Z16: 无院级以上荣誉
A17: 16 | B17: 211126120036 | C17: 张喆 | D17: 研究生网络第二党支部 | E17: 团内推优 | F17: 共青团员 | G17: 20040531 | H17: 男 | I17: 汉族 | J17: 硕士研究生 | K17: 计算机科学与技术-硕士2602班 | L17: 硕士生2026级 | M17: 浙江金华 | N17: 20220906 | O17: 20230327 | P17: 20230507 | Q17: 66.5 | R17: 否 | S17: 11/75，专业排名 | T17: 2024学年学习单项奖学金三等奖，2022学年学习单项奖学金三等奖 | U17: 无 | V17: 无 | W17: 无 | X17: 是 | Y17: 是
A18: 17 | B18: 221126120210 | C18: 范威江 | D18: 研究生智能媒体与工程中心党支部 | E18: 团内推优 | F18: 共青团员 | G18: 20030331 | H18: 男 | I18: 汉族 | J18: 硕士研究生 | K18: （电子信息）计算机技术-专硕2602班 | L18: 硕士生2026级 | M18: 山西孝义 | N18: 20220903 | O18: 20231215 | P18: 20240424 | Q18: 6.5 | R18: 否 | T18: 无 | U18: 无 | V18: 无 | W18: 无 | X18: 是 | Y18: 否 | Z18: 志愿者工时不足，无院级以上奖励
A19: 18 | B19: 302023315094 | C19: 韩佳乐 | D19: 本科网络工程党支部 | E19: 团内推优 | F19: 共青团员 | G19: 20050427 | H19: 男 | I19: 汉族 | J19: 本科生 | K19: 2023网络工程01 | L19: 本科生2023级 | M19: 河南周口 | N19: 20230909 | O19: 20240327 | P19: 20240424 | R19: 否 | S19: 135/654 | X19: 否 | Y19: 否 | Z19: 其他均无
A20: 19 | B20: 302023315039 | C20: 景晨博 | D20: 本科网络工程党支部 | E20: 团内推优 | F20: 共青团员 | G20: 20050901 | H20: 男 | I20: 汉族 | J20: 本科生 | K20: 2023网络工程01 | L20: 本科生2023级 | M20: 山西运城 | N20: 20230914 | O20: 20240327 | P20: 20240424 | R20: 否 | S20: 168/654 | X20: 否 | Y20: 否 | Z20: 其他均无
A21: 20 | B21: 302023315064 | C21: 仇跃霖 | D21: 本科网络工程党支部 | E21: 团内推优 | F21: 共青团员 | G21: 20040716 | H21: 男 | I21: 汉族 | J21: 本科生 | K21: 2023网络工程01 | L21: 本科生2023级 | M21: 浙江宁波 | N21: 20230915 | O21: 20240327 | P21: 20240424 | R21: 否 | S21: 280/654 | X21: 否 | Y21: 否 | Z21: 其他均无
A22: 21 | B22: 302023315136 | C22: 盛怀瑾 | D22: 本科网络工程党支部 | E22: 团内推优 | F22: 共青团员 | G22: 20050714 | H22: 女 | I22: 汉族 | J22: 本科生 | K22: 2023网络工程01 | L22: 本科生2023级 | M22: 浙江金华 | N22: 20230907 | O22: 20240327 | P22: 20240424 | R22: 否 | S22: 108/654 | X22: 否 | Y22: 否 | Z22: 其他均无
A23: 22 | B23: 302023315151 | C23: 杨诚 | D23: 本科网络工程党支部 | E23: 团内推优 | F23: 共青团员 | G23: 20050705 | H23: 男 | I23: 汉族 | J23: 本科生 | K23: 2023网络工程01 | L23: 本科生2023级 | M23: 浙江台州 | N23: 20230913 | O23: 20240327 | P23: 20240424 | R23: 否 | S23: 不满足 | X23: 否 | Y23: 否 | Z23: 任一排名不足50%
A24: 23 | B24: 302023315346 | C24: 高若晨 | D24: 本科网络工程党支部 | E24: 团内推优 | F24: 共青团员 | G24: 20040701 | H24: 女 | I24: 汉族 | J24: 本科生 | K24: 2023网络工程02 | L24: 本科生2023级 | M24: 青海海东 | N24: 20230901 | O24: 20240327 | P24: 20241218 | Q24: 170h | R24: 否 | S24: 8/16（班级） | T24: 大创省赛三等奖 | V24: 班级团支书 | W24: 否 | X24: 是 | Y24: 是
A25: 24 | B25: 302023315258 | C25: 刘馨阳 | D25: 本科网络工程党支部 | E25: 团内推优 | F25: 共青团员 | G25: 20041008 | H25: 女 | I25: 汉族 | J25: 本科生 | K25: 2023网络工程02 | L25: 本科生2023级 | M25: 辽宁大连 | N25: 20230910 | O25: 20240327 | P25: 20240424 | R25: 否 | S25: 267/654 | X25: 否 | Y25: 否 | Z25: 其他均无
A26: 25 | B26: 302023315239 | C26: 姚茜 | D26: 本科网络工程党支部 | E26: 团内推优 | F26: 共青团员 | G26: 20051116 | H26: 女 | I26: 汉族 | J26: 本科生 | K26: 2023网络工程01 | L26: 本科生2023级 | M26: 江西鄱阳 | N26: 20231120 | O26: 20240926 | P26: 20240424 | R26: 否 | S26: 216/654 | X26: 否 | Y26: 否 | Z26: 其他均无
A27: 26 | B27: 302023315366 | C27: 申帅克 | D27: 本科网络工程党支部 | E27: 团内推优 | F27: 共青团员 | G27: 20050914 | H27: 男 | I27: 汉族 | J27: 本科生 | K27: 2023网络工程01 | L27: 本科生2023级 | M27: 河北邯郸 | N27: 20230901 | O27: 20240926 | P27: 20241218 | R27: 是 | S27: 275/654 | X27: 否 | Y27: 否 | Z27: 上学期有挂科科目
A28: 27 | B28: 302023315326 | C28: 杨云飞 | D28: 本科网络工程党支部 | E28: 团内推优 | F28: 共青团员 | G28: 20051220 | H28: 男 | I28: 汉族 | J28: 本科生 | K28: 2023网络工程01 | L28: 本科生2023级 | M28: 甘肃天水 | N28: 20230901 | O28: 20240926 | P28: 20241218 | R28: 否 | S28: 不满足 | X28: 否 | Y28: 否 | Z28: 任一排名不足50%
A29: 28 | B29: 202103150712 | C29: 楼轩铭 | D29: 研究生智能计算党支部 | E29: 团内推优 | F29: 共青团员 | G29: 20030211 | H29: 男 | I29: 汉族 | J29: 硕士研究生 | K29: 硕-计算机科学与技术2501班 | L29: 硕士生2025级 | M29: 浙江东阳 | N29: 20221211 | O29: 20231030 | P29: 未结业 | R29: 否 | S29: 64/121 | W29: 否 | X29: 是 | Y29: 否 | Z29: 党课未结业，其他均无
A30: 29 | B30: 302023315183 | C30: 娄皓程 | D30: 本科数字媒体党支部 | E30: 团内推优 | F30: 共青团员 | G30: 20040929 | H30: 男 | I30: 汉族 | J30: 本科生 | K30: 2023数字媒体技术01 | L30: 本科生2023级 | M30: 浙江宁波 | N30: 20230915 | O30: 20240328 | P30: 20241218 | Q30: 74.5 | R30: 否 | S30: 5/66，专业排名 | T30: 校第三十五届“青春杯”五四火炬接力赛开幕式表演通报表扬；2025浙江省大学生物理（理论）创新竞赛三等奖 | V30: 无 | W30: 无 | X30: 是 | Y30: 是
A31: 30 | B31: 302023315097 | C31: 朱子健 | D31: 本科数字媒体党支部 | E31: 团内推优 | F31: 共青团员 | G31: 20050428 | H31: 男 | I31: 汉族 | J31: 本科生 | K31: 2023数字媒体技术01 | L31: 本科生2023级 | M31: 浙江金华 | N31: 20230915 | O31: 20240328 | P31: 20240424 | R31: 否 | S31: 196/654 | X31: 放弃 | Y31: 否 | Z31: 其他均无
A32: 31 | B32: 302023315263 | C32: 刘鑫源 | D32: 本科数字媒体党支部 | E32: 团内推优 | F32: 共青团员 | G32: 20050413 | H32: 男 | I32: 汉族 | J32: 本科生 | K32: 2023数字媒体技术01 | L32: 本科生2023级 | M32: 山东临朐 | N32: 20230916 | O32: 20240328 | P32: 20240424 | R32: 否 | S32: 229/654 | X32: 放弃 | Y32: 否 | Z32: 其他均无
A33: 32 | B33: 302023315153 | C33: 彭博 | D33: 本科数字媒体党支部 | E33: 团内推优 | F33: 共青团员 | G33: 20040423 | H33: 男 | I33: 汉族 | J33: 本科生 | K33: 2023数字媒体技术02 | L33: 本科生2023级 | M33: 安徽亳州 | N33: 20230917 | O33: 20240328 | P33: 20240424 | R33: 是 | S33: 304/654 | X33: 放弃 | Y33: 否 | Z33: 上学期有挂科科目
A34: 33 | B34: 302023315215 | C34: 刘昊阳 | D34: 本科数字媒体党支部 | E34: 团内推优 | F34: 共青团员 | G34: 20050811 | H34: 男 | I34: 汉族 | J34: 本科生 | K34: 2023数字媒体技术02 | L34: 本科生2023级 | M34: 浙江金华 | N34: 20230913 | O34: 20240328 | P34: 20240424 | R34: 是 | S34: 不满足 | X34: 放弃 | Y34: 否 | Z34: 上学期有挂科科目，任一排名不足50%
A35: 34 | B35: 302023315303 | C35: 余媛媛 | D35: 本科数字媒体党支部 | E35: 团内推优 | F35: 共青团员 | G35: 20050126 | H35: 女 | I35: 汉族 | J35: 本科生 | K35: 2023数字媒体技术02 | L35: 本科生2023级 | M35: 重庆云阳 | N35: 20230917 | O35: 20240328 | P35: 20240424 | R35: 否 | S35: 11/31（班级） | X35: 放弃 | Y35: 否 | Z35: 其他均无
A36: 35 | B36: 302023315318 | C36: 张渝婕 | D36: 本科数字媒体党支部 | E36: 团内推优 | F36: 共青团员 | G36: 20020218 | H36: 女 | I36: 汉族 | J36: 本科生 | K36: 2023数字媒体技术02 | L36: 本科生2023级 | M36: 甘肃白银 | N36: 20230917 | O36: 20240328 | P36: 20240424 | R36: 是 | S36: 不满足 | X36: 放弃 | Y36: 否 | Z36: 上学期有挂科科目，任一排名不足50%
A37: 36 | B37: 302023315180 | C37: 王志成 | D37: 本科数字媒体党支部 | E37: 团内推优 | F37: 共青团员 | G37: 20050404 | H37: 男 | I37: 汉族 | J37: 本科生 | K37: 2023数字媒体技术02 | L37: 本科生2023级 | M37: 浙江新昌 | N37: 20230917 | O37: 20240928 | P37: 20240424 | R37: 否 | S37: 不满足 | X37: 放弃 | Y37: 否 | Z37: 任一排名不足50%
A38: 37 | B38: 302023315006 | C38: 高雨乐 | D38: 本科数字媒体党支部 | E38: 团内推优 | F38: 共青团员 | G38: 20050208 | H38: 男 | I38: 汉族 | J38: 本科生 | K38: 2023数字媒体技术02 | L38: 本科生2023级 | M38: 浙江温州 | N38: 20240313 | O38: 20240928 | P38: 20241218 | R38: 是 | S38: 不满足 | X38: 放弃 | Y38: 否 | Z38: 上学期有挂科科目，任一排名不足50%
A39: 38 | B39: 221126120209 | C39: 雷雨昕 | D39: 研究生软件第一党支部 | E39: 团内推优 | F39: 共青团员 | G39: 20040528 | H39: 女 | I39: 汉族 | J39: 硕士研究生 | K39: （电子信息）计算机技术-专硕2602班 | L39: 硕士生2026级 | M39: 湖南怀化 | N39: 20220901 | O39: 20240928 | P39: 202412128 | Q39: 26.5 | R39: 否 | S39: 6/31，班级排名 | T39: 2024年浙江工业大学“双百双进”暑期社会实践优秀调研报告三等奖，中国可视化与可视分析大会数据可视化竞赛人文可视化创意赛一等作品 | V39: 院文娱部负责人 | W39: 否 | X39: 是 | Y39: 是
A40: 39 | B40: 202103151216 | C40: 吕扬涛 | D40: 研究生网络第三党支部 | E40: 团内推优 | F40: 共青团员 | G40: 20030721 | H40: 男 | I40: 汉族 | J40: 硕士研究生 | K40: （专）硕-软件工程2501班 | L40: 硕士生2025级 | M40: 浙江温州 | N40: 20210801 | O40: 20211217 | P40: 20220516 | R40: 否 | Y40: 否 | Z40: 其他均无
...

Sheet 导出计数_现党支部_2
A1: 现党支部 | B1: 计数 | C1: 占比
A2: 研究生软件第二党支部 | B2: 3 | C2: 0.16666667
A3: 研究生软件第一党支部 | B3: 3 | C3: 0.16666667
A4: 研究生视觉第二党支部 | B4: 3 | C4: 0.16666667
A5: 研究生网络第二党支部 | B5: 2 | C5: 0.11111111
A6: 研究生网络第一党支部 | B6: 3 | C6: 0.16666667
A7: 研究生智能计算党支部 | B7: 1 | C7: 0.055555556
A8: 研究生智能媒体与工程中心党支部 | B8: 2 | C8: 0.11111111
A9: 研究生智能系统第二党支部 | B9: 1 | C9: 0.055555556
B10: 7

Sheet 导出计数_现党支部_1
A1: 现党支部 | B1: 计数 | C1: 普通名额计数 | D1: 普通名额占比 | E1: 普通名额分配 | F1: 高知人数 | G1: 高知名额占比 | H1: 高知名额分配 | I1: 总名额分配
A2: 本科计算机科学与技术第二党支部 | B2: 14 | C2: 14 | D2: =29*(C2/99) -> 4.1010101 | E2: 4 | F2: 0 | G2: 0 | H2: 0 | I2: =E2+H2 -> 4
A3: 本科计算机科学与技术第一党支部 | B3: 9 | C3: 9 | D3: =29*(C3/99) -> 2.6363636 | E3: 2 | F3: 0 | G3: 0 | H3: 0 | I3: =E3+H3 -> 2
A4: 本科软件工程第二党支部 | B4: 9 | C4: 9 | D4: =29*(C4/99) -> 2.6363636 | E4: 2 | F4: 0 | G4: 0 | H4: 0 | I4: =E4+H4 -> 2
A5: 本科软件工程第三党支部 | B5: 9 | C5: 9 | D5: =29*(C5/99) -> 2.6363636 | E5: 2 | F5: 0 | G5: 0 | H5: 0 | I5: =E5+H5 -> 2
A6: 本科软件工程第一党支部 | B6: 11 | C6: 11 | D6: =29*(C6/99) -> 3.2222222 | E6: 3 | F6: 0 | G6: 0 | H6: 0 | I6: =E6+H6 -> 3
A7: 本科软件工程中外合作第二党支部 | B7: 3 | C7: 3 | D7: =29*(C7/99) -> 0.87878788 | E7: 1 | F7: 0 | G7: 0 | H7: 0 | I7: =E7+H7 -> 1
A8: 本科软件工程中外合作第一党支部 | B8: 7 | C8: 7 | D8: =29*(C8/99) -> 2.0505051 | E8: 2 | F8: 0 | G8: 0 | H8: 0 | I8: =E8+H8 -> 2
A9: 本科数据科学与大数据技术和实验班联合党支部 | B9: 6 | C9: 6 | D9: =29*(C9/99) -> 1.7575758 | E9: 2 | F9: 0 | G9: 0 | H9: 0 | I9: =E9+H9 -> 2
A10: 本科数字媒体党支部 | B10: 5 | C10: 5 | D10: =29*(C10/99) -> 1.4646465 | E10: 1 | F10: 0 | G10: 0 | H10: 0 | I10: =E10+H10 -> 1
A11: 本科网络工程党支部 | B11: 10 | C11: 10 | D11: =29*(C11/99) -> 2.9292929 | E11: 3 | F11: 0 | G11: 0 | H11: 0 | I11: =E11+H11 -> 3
A12: 博士生软件党支部 | B12: 2 | C12: 2 | D12: =29*(C12/99) -> 0.58585859 | E12: 1 | F12: 0 | G12: 0 | H12: 0 | I12: =E12+H12 -> 1
A13: 博士生图像视觉党支部 | B13: 2 | C13: 2 | D13: =29*(C13/99) -> 0.58585859 | E13: 1 | F13: 0 | G13: 0 | H13: 0 | I13: =E13+H13 -> 1
A14: 研究生软件第二党支部 | B14: 3 | C14: 0 | D14: =29*(C14/99) -> 0 | E14: 0 | F14: 3 | G14: =5*(F14/18) -> 0.83333333 | H14: 1 | I14: =E14+H14 -> 1
A15: 研究生软件第一党支部 | B15: 5 | C15: 2 | D15: =29*(C15/99) -> 0.58585859 | E15: 1 | F15: 3 | G15: =5*(F15/18) -> 0.83333333 | H15: 1 | I15: =E15+H15 -> 2
A16: 研究生视觉第二党支部 | B16: 3 | C16: 0 | D16: =29*(C16/99) -> 0 | E16: 0 | F16: 3 | G16: =5*(F16/18) -> 0.83333333 | H16: 1 | I16: =E16+H16 -> 1
A17: 研究生视觉第一党支部 | B17: 1 | C17: 1 | D17: =29*(C17/99) -> 0.29292929 | E17: 0 | F17: 0 | G17: =5*(F17/18) -> 0 | H17: 0 | I17: =E17+H17 -> 0
A18: 研究生图形党支部 | B18: 1 | C18: 1 | D18: =29*(C18/99) -> 0.29292929 | E18: 0 | F18: 0 | G18: =5*(F18/18) -> 0 | H18: 0 | I18: =E18+H18 -> 0
A19: 研究生网络第二党支部 | B19: 4 | C19: 2 | D19: =29*(C19/99) -> 0.58585859 | E19: 1 | F19: 2 | G19: =5*(F19/18) -> 0.55555556 | H19: 0 | I19: =E19+H19 -> 1
A20: 研究生网络第一党支部 | B20: 5 | C20: 2 | D20: =29*(C20/99) -> 0.58585859 | E20: 1 | F20: 3 | G20: =5*(F20/18) -> 0.83333333 | H20: 1 | I20: =E20+H20 -> 2
A21: 研究生智能计算党支部 | B21: 2 | C21: 1 | D21: =29*(C21/99) -> 0.29292929 | E21: 0 | F21: 1 | G21: =5*(F21/18) -> 0.27777778 | H21: 0 | I21: =E21+H21 -> 0
A22: 研究生智能媒体与工程中心党支部 | B22: 2 | C22: 0 | D22: =29*(C22/99) -> 0 | E22: 0 | F22: 2 | G22: =5*(F22/18) -> 0.55555556 | H22: 0 | I22: =E22+H22 -> 0
A23: 研究生智能系统第二党支部 | B23: 1 | C23: 0 | D23: =29*(C23/99) -> 0 | E23: 0 | F23: 1 | G23: =5*(F23/18) -> 0.27777778 | H23: 0 | I23: =E23+H23 -> 0
A24: 研究生智能系统第一党支部 | B24: 3 | C24: 3 | D24: =29*(C24/99) -> 0.87878788 | E24: 1 | F24: 0 | G24: =5*(F24/18) -> 0 | H24: 0 | I24: =E24+H24 -> 1
A25: 总计 | B25: =SUM(B2:B24) -> 117 | C25: =SUM(C2:C24) -> 99 | D25: =29*(C25/99) -> 29 | E25: =SUM(E2:E24) -> 28 | F25: =SUM(F2:F24) -> 18 | G25: =5*(F25/18) -> 5 | H25: =SUM(H2:H24) -> 4 | I25: =SUM(I2:I24) -> 32
A26: 公开答辩名额（拟定） | E26: 4 | H26: 3 | I26: =E26+H26 -> 7
